BEGIN:VCALENDAR
VERSION:2.0
PRODID:-//wp-events-plugin.com//7.2.3.1//EN
TZID:Europe/Paris
X-WR-TIMEZONE:Europe/Paris
BEGIN:VEVENT
UID:602@les-castors.fr
DTSTART;TZID=Europe/Paris;VALUE=DATE:20250127
DTEND;TZID=Europe/Paris;VALUE=DATE:20250128
DTSTAMP:20250127T144907Z
URL:https://les-castors.fr/events/reprise-de-fondatoins-en-pierres/
SUMMARY:Reprise de fondations en pierres
DESCRIPTION:Reprise de fondations en pierres dans des caves\,  à Condorce
 t dans la Drôme (26110)\n\nslegablier@wanadoo.fr
CATEGORIES:Chantiers participatifs
LOCATION:lieu exact sur demande\, 3 Place du 19 Mars 1944\, Condorcet\, Ré
 gion Rhône-Alpes\, 26110\, Drôme\, France
GEO:44.389;5.1014
X-APPLE-STRUCTURED-LOCATION;VALUE=URI;X-ADDRESS=3 Place du 19 Mars 1944\, C
 ondorcet\, Région Rhône-Alpes\, 26110\, Drôme\, France;X-APPLE-RADIUS=1
 00;X-TITLE=lieu exact sur demande:geo:44.389,5.1014
END:VEVENT
BEGIN:VTIMEZONE
TZID:Europe/Paris
X-LIC-LOCATION:Europe/Paris
BEGIN:STANDARD
DTSTART:20241027T020000
TZOFFSETFROM:+0200
TZOFFSETTO:+0100
TZNAME:CET
END:STANDARD
END:VTIMEZONE
END:VCALENDAR