BEGIN:VCALENDAR
VERSION:2.0
PRODID:-//wp-events-plugin.com//7.2.3.1//EN
TZID:Europe/Paris
X-WR-TIMEZONE:Europe/Paris
BEGIN:VEVENT
UID:630@les-castors.fr
DTSTART;TZID=Europe/Paris;VALUE=DATE:20250701
DTEND;TZID=Europe/Paris;VALUE=DATE:20260501
DTSTAMP:20250701T084256Z
URL:https://les-castors.fr/events/renovation-dune-petite-ferme-agro-eco-lo
 gique/
SUMMARY:Rénovation d'une petite ferme Agro-éco-logique
DESCRIPTION:Helloo\,\n\nJe suis actuellement en train d'avancer sur les tra
 vaux de rénovation sur la ferme\, je souhaite\, cette année\, notamment 
 terminer\n\n- les cloisons de la maison (structure bois\, enduits chaux-ch
 anvre et terre-paille)\,\n\n- refaire un plancher dans la grange (débarra
 ssé du foin et pose des nouveaux chevrons puis du plancher)\,\n\n- refair
 e la toiture du four à pain et d'une petite dépendance accolée à la gr
 ange avec l'ajout d'une petite serre histoire d'avoir un endroit sympa de 
 plus en hiver ! 🙂\n\nA côté je vais continuer une partie des travaux
  concernant l'électricité et l'eau\, si cela peut vous intéresser.\n\nA
 ussi\, je cultive cette année du petit épeautre\, orge-avoine-luzerne\, 
 maïs-haricots\, tournesol\, des légumes\, sur une petite surface (mais 
 ça fait un grand jardin quand même) car je fait principalement des produ
 ctions pour de l'auto-consommation. La ferme est en Bio avec l'aide de pri
 ncipe en biodynamie. La ferme se situe à 500m d'altitude\, entre Roanne e
 t Vichy\, au début des monts de la Madeleine !\n\nAu plaisir d'échanger 
 et de se rencontrer\,\n\nSincères remerciements et salutations\n\nJérém
 ie M
ATTACH;FMTTYPE=image/jpeg:https://les-castors.fr/wp-content/uploads/2025/0
 4/girard1.jpg
CATEGORIES:Chantiers participatifs
LOCATION:Lieu exact précisé sur demande\, 2 Rue Pierre Monot\, Saint-Mart
 in-d'Estréaux\, Auvergne-Rhône-Alpes\, 42620\, Allier\, France
GEO:46.2025;3.7806
X-APPLE-STRUCTURED-LOCATION;VALUE=URI;X-ADDRESS=2 Rue Pierre Monot\, Saint-
 Martin-d'Estréaux\, Auvergne-Rhône-Alpes\, 42620\, Allier\, France;X-APP
 LE-RADIUS=100;X-TITLE=Lieu exact précisé sur demande:geo:46.2025,3.7806
END:VEVENT
BEGIN:VTIMEZONE
TZID:Europe/Paris
X-LIC-LOCATION:Europe/Paris
BEGIN:DAYLIGHT
DTSTART:20250330T030000
TZOFFSETFROM:+0100
TZOFFSETTO:+0200
TZNAME:CEST
END:DAYLIGHT
BEGIN:STANDARD
DTSTART:20251026T020000
TZOFFSETFROM:+0200
TZOFFSETTO:+0100
TZNAME:CET
END:STANDARD
BEGIN:DAYLIGHT
DTSTART:20260329T030000
TZOFFSETFROM:+0100
TZOFFSETTO:+0200
TZNAME:CEST
END:DAYLIGHT
END:VTIMEZONE
END:VCALENDAR