BEGIN:VCALENDAR
VERSION:2.0
PRODID:-//wp-events-plugin.com//7.2.3.1//EN
TZID:Europe/Paris
X-WR-TIMEZONE:Europe/Paris
BEGIN:VEVENT
UID:481@les-castors.fr
DTSTART;TZID=Europe/Paris;VALUE=DATE:20240101
DTEND;TZID=Europe/Paris;VALUE=DATE:20241001
DTSTAMP:20240707T163850Z
URL:https://les-castors.fr/events/maison-en-greb-sur-dalle-bois-isolee-2/
SUMMARY:Maison en GREB sur dalle bois isolée
DESCRIPTION:Bonjour à tous\,\n\nDepuis la publication de notre chantier pa
 rticipatif en février 2023\, le chantier a bien évolué puisque la maiso
 n est hors d'eau\, hors d'air !\n\nPour les prochains mois\, nous vous pro
 posons :\n\nEn mars 2024 : montage de l'ossature des cloisons + suspentes 
 et rails métalliques pour placo (plafond). Essentiellement les week-ends 
 suivants : 9 et 10 mars\, 23 et 24 mars\, et du 30 mars au 3 avril.\n\nEn 
 avril 2024 :\n\n 	Jeudi 4 avril : Journée électricité avec notre élect
 ricien castor Bruno. Il vient avec les pieuvres toutes prêtes et nous met
 tons en place toutes les gaines. Également plomberie et pose des gaines d
 e VMC DF à prévoir pour cette journée.\n\nDès que l'électricité est 
 en place\, nous commencerons les cloisons en terre-paille banché sur les 
 WE suivants : 27 et 28 avril\, 4 et 5 mai\, 8 au 12 mai (Ascension)\, 18 a
 u 20 mai. Puis en semaine du 20 mai au 16 juin\, et à partir du 8 juillet
  pour tout l'été !\n\nN'hésitez pas à nous contacter pour plus d'infor
 mations !\n\nDétails sur les repas et possibilités d'hébergement commun
 iqués aux inscrits. Nous avons un appartement situé à 15 minutes du cha
 ntier. Lorsque les températures le permettront (juin-juillet si tout va b
 ien)\, l'hébergement pourra se faire sur le terrain (prévoir une tente e
 t un matelas)\, ou bien un van aménagé / caravane.\n\nSi vous n'êtes pa
 s loin\, il est bien sûr possible de venir à la journée.\n\nNotre chant
 ier se trouve proche de Boën sur Lignon\, dans la petite commune d'Ailleu
 x.\n\nA très bientôt !\n\nPour nous contacter : savel.mathilde@gmail.com
ATTACH;FMTTYPE=image/jpeg:https://les-castors.fr/wp-content/uploads/2024/0
 3/IMG_20231204_141000_076.jpg
CATEGORIES:Chantiers participatifs
LOCATION:Lieu exact communiqué aux inscrits\, Le Bourg\, Ailleux\, Région
  Rhône-Alpes\, 42130\, Loire\, France
GEO:45.8031;3.9433
X-APPLE-STRUCTURED-LOCATION;VALUE=URI;X-ADDRESS=Le Bourg\, Ailleux\, Régio
 n Rhône-Alpes\, 42130\, Loire\, France;X-APPLE-RADIUS=100;X-TITLE=Lieu ex
 act communiqué aux inscrits:geo:45.8031,3.9433
END:VEVENT
BEGIN:VTIMEZONE
TZID:Europe/Paris
X-LIC-LOCATION:Europe/Paris
BEGIN:STANDARD
DTSTART:20231029T020000
TZOFFSETFROM:+0200
TZOFFSETTO:+0100
TZNAME:CET
END:STANDARD
BEGIN:DAYLIGHT
DTSTART:20240331T030000
TZOFFSETFROM:+0100
TZOFFSETTO:+0200
TZNAME:CEST
END:DAYLIGHT
END:VTIMEZONE
END:VCALENDAR