BEGIN:VCALENDAR
VERSION:2.0
PRODID:-//wp-events-plugin.com//7.2.3.1//EN
TZID:Europe/Paris
X-WR-TIMEZONE:Europe/Paris
BEGIN:VEVENT
UID:610@les-castors.fr
DTSTART;TZID=Europe/Paris;VALUE=DATE:20250329
DTEND;TZID=Europe/Paris;VALUE=DATE:20250407
DTSTAMP:20250219T131103Z
URL:https://les-castors.fr/events/facade-enduit-a-la-chaux-2/
SUMMARY:facade enduit à la chaux
DESCRIPTION:Pascal et Laurence dans le loir et cher.\n\nPascal a récupér
 é la maison de ses parents dans le loir et cher à côté de Vendômes.\n
 \nCette maison est (très) vieille\, plus de 400 ans\, pleine de charme\, 
 et en partie troglodyte.\n\nL'enduit extérieur à été refait dans les a
 nnées soixante\, à une époque où l'on aimait bien mettre du béton par
 tout. Cela a pose des problèmes\, d'ordre esthétique mais aussi structur
 el\, avec plaques entières d'enduit qui tombent.\n\nOn a pris la décisio
 n de refaire cet enduit\, en repassant sur un enduit plus respectueux des 
 murs existant\, à la chaux.\n\nNous avons déjà fait une première phase
  l'année dernière\, en faisant tomber l'enduit béton actuel et en refai
 sant une grosse partie du corps d'enduit.\n\nNous planifions cette semaine
  de chantier pour :\n\n 	finir le corps d'enduit\n 	faire l'enduit de fini
 tion\n\nNous sommes accompagné d'un ami artisan qui nous guides pour tout
 es ces opérations.\n\nNous fournissons le gite et le couvert bien entendu
 .\n\nNous pouvons accueillir plusieurs personnes (environ 4)\n\nle chantie
 r sera du 29/03/2025 au 06/04/2025 toute la journée.\n\nmerci d'avance !\
 n\nPascal et Laurence
ATTACH;FMTTYPE=image/jpeg:https://les-castors.fr/wp-content/uploads/2025/0
 2/1022531-1.jpg
CATEGORIES:Chantiers participatifs
LOCATION:maison naveil\, 4 impasse de la bouvillerie\, Naveil\, Centre-Val 
 de Loire\, 41100\, Loir-et-Cher\, France
GEO:47.796439;1.020362
X-APPLE-STRUCTURED-LOCATION;VALUE=URI;X-ADDRESS=4 impasse de la bouvillerie
 \, Naveil\, Centre-Val de Loire\, 41100\, Loir-et-Cher\, France;X-APPLE-RA
 DIUS=100;X-TITLE=maison naveil:geo:47.796439,1.020362
END:VEVENT
BEGIN:VTIMEZONE
TZID:Europe/Paris
X-LIC-LOCATION:Europe/Paris
BEGIN:STANDARD
DTSTART:20241027T020000
TZOFFSETFROM:+0200
TZOFFSETTO:+0100
TZNAME:CET
END:STANDARD
BEGIN:DAYLIGHT
DTSTART:20250330T030000
TZOFFSETFROM:+0100
TZOFFSETTO:+0200
TZNAME:CEST
END:DAYLIGHT
END:VTIMEZONE
END:VCALENDAR