BEGIN:VCALENDAR
VERSION:2.0
PRODID:-//wp-events-plugin.com//7.2.3.1//EN
TZID:Europe/Paris
X-WR-TIMEZONE:Europe/Paris
BEGIN:VEVENT
UID:604@les-castors.fr
DTSTART;TZID=Europe/Paris;VALUE=DATE:20250419
DTEND;TZID=Europe/Paris;VALUE=DATE:20250505
DTSTAMP:20250206T080509Z
URL:https://les-castors.fr/events/chantier-terre-paille-murs-interieurs/
SUMMARY:Chantier Terre/paille murs intérieurs
DESCRIPTION:Hello ! Ici Timothée et Milène.\n\nTim est menuisier et éduc
 ateur sportif spécialisé dans les sports de pleine nature. Milène est i
 nfirmière puéricultrice et herboriste.\n\nNous auto construisons notre m
 aison à proximité du lac de Paladru\, dans la campagne dauphinoise\, au 
 pied du massif préalpin de la Chartreuse (Isère – 38) dont nous sommes
  originaires.\n\nNous construisons une maison bioclimatique R+1 en ossatur
 e bois\, isolation paille et enduit chaux-terre. Pour cela\, Tim s’est f
 ormé en 2021 via l’association Oxalis en ossature bois (plateforme)\, i
 solation paille (technique Feuillet)\, poêle de masse.\n\nNotre maison av
 ance !\n\nAprès avoir monté l’ossature et s’être mis hors d’eau s
 ur la première année de construction\, nous nous avons été hors d’ai
 r et avons équipé la maison des divers réseaux durant la deuxième.\n\n
 Nous avons le projet de terminer les travaux sur cette année ! Pour cela\
 , nous avons encore besoin de votre aide précieuse !\n\nRejoignez-nous po
 ur notre prochain chantier participatif enduit Terre-Paille des murs et cl
 oisons intérieurs !\n\nL'objectif est d'acquérir les routines de mélang
 e terre/eau/paille\, d’application de l’enduit et de dressage des murs
  en effectuant un travail efficace et précis\, tout ça dans la bonne hum
 eur et l'apprentissage !\n\nLe chantier se déroulera du samedi 19 avril a
 u dimanche 4 mai : Chantier participatif Enduit Terre/paille des murs et c
 loisons intérieurs.\n\n \n\nNiveau hébergement\, possibilité de garer 
 vos véhicules aménagés sur place\, de poser une tente dans le jardin ou
  un matelas dans la maison même. Sinon des Airbnb sont à proximité ains
 i que le camping de Montferrat au bord du lac (https://fr.camping-and-co.c
 om/camping-detentes-et-clapotis).\n\nNous offrons le repas du midi. Nous p
 ouvons partager le petit déjeuner ainsi que le dîner.\n\nNous vous déta
 illerons les outils et vêtements qui vous seront utiles lors de votre ins
 cription au chantier.\n\nVous serez couverts lors du chantier participatif
  grâce à l'association des Castors !\n\nAu plaisir de vous accueillir\n\
 nMilène et Timothée
CATEGORIES:Chantiers participatifs
LOCATION:lieu précisé aux inscrits\, 150 Place Célestin Adolphe PEGOUD\,
  Montferrat\, Auvergne-Rhône-Alpes\, 38620\, Isère\, France
GEO:45.489779;5.591816
X-APPLE-STRUCTURED-LOCATION;VALUE=URI;X-ADDRESS=150 Place Célestin Adolphe
  PEGOUD\, Montferrat\, Auvergne-Rhône-Alpes\, 38620\, Isère\, France;X-A
 PPLE-RADIUS=100;X-TITLE=lieu précisé aux inscrits:geo:45.489779,5.591816
END:VEVENT
BEGIN:VTIMEZONE
TZID:Europe/Paris
X-LIC-LOCATION:Europe/Paris
BEGIN:DAYLIGHT
DTSTART:20250330T030000
TZOFFSETFROM:+0100
TZOFFSETTO:+0200
TZNAME:CEST
END:DAYLIGHT
END:VTIMEZONE
END:VCALENDAR