BEGIN:VCALENDAR
VERSION:2.0
PRODID:-//wp-events-plugin.com//7.2.3.1//EN
TZID:Europe/Paris
X-WR-TIMEZONE:Europe/Paris
BEGIN:VEVENT
UID:524@les-castors.fr
DTSTART;TZID=Europe/Paris;VALUE=DATE:20240914
DTEND;TZID=Europe/Paris;VALUE=DATE:20240916
DTSTAMP:20240723T123023Z
URL:https://les-castors.fr/events/chantier-participatif-rejointoiement-pie
 rres-07-ardeche-nord-14-15-sept/
SUMMARY:CHANTIER "REJOINTOIEMENT PIERRES + TERRE-PAILLE-CHAUX" (07 ARDECHE 
 NORD) 14/15 SEPT
DESCRIPTION:Bonjour à toutes et tous\,\n\nNous organisons deux weekends de
  chantier participatif pour le rejointoiement des pierres de nos façades 
 EST et OUEST.\n\nJulia Benoît (qui nous a été recommandée et formée p
 ar Monique Cerro) sera là pour encadrer le chantier\, transmettre son sav
 oir-faire avec précision\, joie et bonne humeur.\n\nQuel est le programme
  ? Du rejointement de pierres (toutes les étapes) et du Terre-Paille-Chau
 x avec enduit de finition sur les encadrements de fenêtres et le soubasse
 ment d'une extension.\nOù est-ce que cela se passe ? En Ardèche Verte (S
 aint-Barthélémy-le-Plain) - à 25 mn de la Vallée-du-Rhône.\nA quelles
  dates ? Début septembre\, les 7/8 et 14/15 septembre (vous pouvez bien s
 ûr vous inscrire au weekend de votre choix ou bien aux deux)\n\nNous nous
  occuperons des repas et pouvons vous loger au besoin. A savoir que cela s
 era en "mode refuge" car nous n'avons qu'une seule chambre d'amis. Mais on
  a une mezzanine\, un grand jardin avec une tente (qui peut également en 
 accueillir d'autres)... etc.\n\nMerci beaucoup\,\n\nJulie &amp\; Romain\n\
 n__\n\nQuelques mots sur nous :\n\n"Nous c'est Julie et Romain. On est enc
 hantés de rejoindre la famille des Castors après avoir participé à not
 re premier chantier participatif. Un weekend qui nous aura marqué par sa 
 richesse en partages et en apprentissages : comme l'impression qu'un nouve
 au monde s'est ouvert à nous.\n\nSinon\, après avoir vécu 4 ans dans le
  Gard\, on a fait le choix de s'installer en région Rhône-Alpes. Un rêv
 e de vie simple\, libre et paisible avec notre chien Taki.\n\nC'est adoss
 ée à une colline de l'Ardèche verte (entre Tournon et Lamastre) que se 
 niche discrètement notre petite maison en pierres. Elle a déjà été en
  partie rénovée par son ancien propriétaire. Cela dit\, de nombreux tra
 vaux de rénovations\, de finitions et d'aménagements sont à prévoir. C
 omme par exemple\, le rejointoiement de notre façade qui permettra de se 
 mettre à l'abris des pluies et lui redonner de sa superbe.\n\nAu plaisir 
 de connecter\, de se rencontrer et de partager ensemble !"
ATTACH;FMTTYPE=image/jpeg:https://les-castors.fr/wp-content/uploads/2024/0
 7/chantier-part-basse-def-1.jpg
CATEGORIES:Chantiers participatifs
LOCATION:Lieu exact précisé sur demande\, 110 Rue de la Mairie\, Saint-Ba
 rthélemy-le-Plain\, Auvergne-Rhône-Alpes\, 07300\, Ardèche\, France
GEO:45.052998;4.746627
X-APPLE-STRUCTURED-LOCATION;VALUE=URI;X-ADDRESS=110 Rue de la Mairie\, Sain
 t-Barthélemy-le-Plain\, Auvergne-Rhône-Alpes\, 07300\, Ardèche\, France
 ;X-APPLE-RADIUS=100;X-TITLE=Lieu exact précisé sur demande:geo:45.052998
 ,4.746627
END:VEVENT
BEGIN:VTIMEZONE
TZID:Europe/Paris
X-LIC-LOCATION:Europe/Paris
BEGIN:DAYLIGHT
DTSTART:20240331T030000
TZOFFSETFROM:+0100
TZOFFSETTO:+0200
TZNAME:CEST
END:DAYLIGHT
END:VTIMEZONE
END:VCALENDAR