BEGIN:VCALENDAR
VERSION:2.0
PRODID:-//wp-events-plugin.com//7.2.3.1//EN
TZID:Europe/Paris
X-WR-TIMEZONE:Europe/Paris
BEGIN:VEVENT
UID:697@les-castors.fr
DTSTART;TZID=Europe/Paris;VALUE=DATE:20260314
DTEND;TZID=Europe/Paris;VALUE=DATE:20260715
DTSTAMP:20260305T205139Z
URL:https://les-castors.fr/events/chantier-participatif-murs-ossature-bois
 -charpente-et-isolation-par-lexterieur-38/
SUMMARY:Chantier participatif : murs ossature bois\, charpente et isolation
  par l'extérieur (38)
DESCRIPTION:Bonjour\,\n\nJe suis en autoconstruction totale d'une maison pa
 ssive (je tâcherais peut-être de la faire certifier) de 270m²\, sur 3 n
 iveaux (R+1+Combles)\, en Nord-Isère (45 minutes de Lyon et 1h de Grenobl
 e).\nC'est une construction mixte pierre-ponce (pour le rez-de-chaussée) 
 / ossature bois (pour l'étage et la toiture).\n\nLa maçonnerie est termi
 née\, l'ossature du 1er niveau également\, ainsi que le solivage du plan
 cher des combles (les dalles OSB sont installées provisoirement\, mais il
  faudra les refaire au moment de la pose des murs).\n\nIl reste à faire :
 \n\n 	Assemblage des murs ossature bois des combles (les coupes sont déj
 à faites\, et quelques-uns sont déjà assemblés)\n 	Contreventement (pa
 r l'intérieur) de ces même murs (OSB pour les cloisons\, Durelis Vapourb
 lock pour les murs périphériques)\n 	Alignement et fixation définitive 
 du solivage\n 	Assemblage et pose des 2 fermes de la charpente\n 	Pose des
  murs sur la dalle\n 	Pose des pannes\, et fixation des bracons entre la p
 anne faitière\, les fermes et les pignons\, qui viendront contreventer to
 ute la structure de l'étage\n 	Pose des chevrons\n 	Pose du pare-pluie ri
 gide (fibre de bois pare-pluie)\n 	Litelage et contrelitelage\n 	Pose des 
 tuiles\n\nEnfin une fois la toiture réalisée\, l'isolation par l'extéri
 eur de la structure pourra débuter : laine de bois entre montants + panne
 aux de fibre de bois en ITE vissés sur l'ossature.\n\nTous les levages so
 nt fait à la grue. La sécurité sur la toiture sera assurée à minima p
 ar un échafaudage le long de l'égout de toiture.\n\nCela devrait nous oc
 cuper au moins jusqu'à la fin de l'été. D'autres dates plus précises p
 our cet été seront communiquées.\nHébergement sur place possible\, j'a
 i une maison en dur voisine du chantier !\n\nContactez moi ici : florian A
 T nicolais.fr\, ou au O6 O7 89 47 78 (n'hésitez pas à laisser un message
 \, je rappelle quand je suis dispo).
ATTACH;FMTTYPE=image/jpeg:https://les-castors.fr/wp-content/uploads/2026/0
 3/20250822_194540.jpg
CATEGORIES:Chantiers participatifs
LOCATION:Culin (lieu exact communiqué sur inscription)\, Lucle\, Culin\, R
 égion Rhône-Alpes\, 38300\, Isère\, France
GEO:45.52454;5.25285
X-APPLE-STRUCTURED-LOCATION;VALUE=URI;X-ADDRESS=Lucle\, Culin\, Région Rh
 ône-Alpes\, 38300\, Isère\, France;X-APPLE-RADIUS=100;X-TITLE=Culin (lie
 u exact communiqué sur inscription):geo:45.52454,5.25285
END:VEVENT
BEGIN:VTIMEZONE
TZID:Europe/Paris
X-LIC-LOCATION:Europe/Paris
BEGIN:STANDARD
DTSTART:20251026T020000
TZOFFSETFROM:+0200
TZOFFSETTO:+0100
TZNAME:CET
END:STANDARD
BEGIN:DAYLIGHT
DTSTART:20260329T030000
TZOFFSETFROM:+0100
TZOFFSETTO:+0200
TZNAME:CEST
END:DAYLIGHT
END:VTIMEZONE
END:VCALENDAR