BEGIN:VCALENDAR
VERSION:2.0
PRODID:-//wp-events-plugin.com//7.2.3.1//EN
TZID:Europe/Paris
X-WR-TIMEZONE:Europe/Paris
BEGIN:VEVENT
UID:699@les-castors.fr
DTSTART;TZID=Europe/Paris:20260323T083000
DTEND;TZID=Europe/Paris:20260330T170000
DTSTAMP:20260306T075747Z
URL:https://les-castors.fr/events/chantier-participatif-enduits/
SUMMARY:Chantier participatif enduit terre et chaux
DESCRIPTION:Bonjour les Castors\,\n\nNous organisons un chantier enduit cha
 ux du 23 au 25 mars puis chantier enduit terre du 27 au 30 mars.\n\nChanti
 ers en intérieur encadré par deux professionnelles.\n\nConfirmés et dé
 butants sont bienvenus pour enduire les murs intérieurs.\n\nHoraires:\n\n
 8h30 à 12h\n\nEt\n\n13h30 à17h\n\nSi vous avez des vêtements de travail
 \, gants\, chaussures de chantier\, masques\, lunettes sont les bienvenus 
 (si vous avez)\, sinon\, nous pouvons en prêter.\n\nInscrivez-vous par co
 urriel: annegalland1983@gmail.com\n\nou 06 76 83 15 55\n\nAu plaisir de vo
 us rencontrer\n\nMerci pour votre participation\n\nAmicalement\n\nHélène
  et Anne\n\n&nbsp\;
CATEGORIES:Chantiers participatifs
LOCATION:Loyettes (lieu exact précisé sur demande)\, 101 Rue de la Mairie
 \, Loyettes\, Auvergne-Rhône-Alpes\, 01360\, Ain\, France
GEO:45.774148;5.203742
X-APPLE-STRUCTURED-LOCATION;VALUE=URI;X-ADDRESS=101 Rue de la Mairie\, Loye
 ttes\, Auvergne-Rhône-Alpes\, 01360\, Ain\, France;X-APPLE-RADIUS=100;X-T
 ITLE=Loyettes (lieu exact précisé sur demande):geo:45.774148,5.203742
END:VEVENT
BEGIN:VTIMEZONE
TZID:Europe/Paris
X-LIC-LOCATION:Europe/Paris
BEGIN:STANDARD
DTSTART:20251026T020000
TZOFFSETFROM:+0200
TZOFFSETTO:+0100
TZNAME:CET
END:STANDARD
BEGIN:DAYLIGHT
DTSTART:20260329T030000
TZOFFSETFROM:+0100
TZOFFSETTO:+0200
TZNAME:CEST
END:DAYLIGHT
END:VTIMEZONE
END:VCALENDAR