BEGIN:VCALENDAR
VERSION:2.0
PRODID:-//wp-events-plugin.com//7.2.3.1//EN
TZID:Europe/Paris
X-WR-TIMEZONE:Europe/Paris
BEGIN:VEVENT
UID:662@les-castors.fr
DTSTART;TZID=Europe/Paris:20260124T083000
DTEND;TZID=Europe/Paris:20260124T180000
DTSTAMP:20260113T082657Z
URL:https://les-castors.fr/events/chantier-participatif-enduits-sur-bottes
 -de-paille-avec-artisan/
SUMMARY:Chantier participatif enduits sur bottes de paille avec artisan
DESCRIPTION:Dernière journée d'enduits terre sur bottes de paille le same
 di 24 janvier!\n\nNous atteindrons les 6cm d'enduits sur tous les murs.\nA
 u programme\, réalisation du mélange et application.\n\nToujours accompa
 gnés par Olivier de Badigeons&amp\;Cie\, artisan spécialisé dans la mis
 e en œuvre d’enduits et de finitions traditionnels.\n\nNotre projet : u
 ne maison neuve\, ossature bois\, isolation paille\, démarré en 2024. No
 us avons réalisé entre autres une dalle chaux liège et un poele de mass
 e.\n\nNous vous accueillons sur notre terrain ou nous vivons en habitat l
 éger\, au centre du village de Giron\, à 1000m d’altitude.\n\nLe progr
 amme :\n\n 	8h30 : café accueil\n 	9h : Préparation et démarrage du cha
 ntier\n 	12h 30 : Repas\n 	13h30/17h : Suite de l’application\n 	17h/17h
 30 : Nettoyage – bilan\n\n2 participants par jour + organisateurs (2) + 
 formateur (1)\n\nRepas du midi offert.\n\nContact:\nlise.garnier3@gmail.co
 m ou SMS 07 87 60 90 60\n\nAu plaisir de vous rencontrer!\n\nLise
CATEGORIES:Chantiers participatifs
LOCATION:Giron\, rue de Giron Derrière\, Giron\, Auvergne-Rhône-Alpes\, 0
 1130\, Ain\, France
GEO:46.229557;5.775179
X-APPLE-STRUCTURED-LOCATION;VALUE=URI;X-ADDRESS=rue de Giron Derrière\, Gi
 ron\, Auvergne-Rhône-Alpes\, 01130\, Ain\, France;X-APPLE-RADIUS=100;X-TI
 TLE=Giron:geo:46.229557,5.775179
END:VEVENT
BEGIN:VTIMEZONE
TZID:Europe/Paris
X-LIC-LOCATION:Europe/Paris
BEGIN:STANDARD
DTSTART:20251026T020000
TZOFFSETFROM:+0200
TZOFFSETTO:+0100
TZNAME:CET
END:STANDARD
END:VTIMEZONE
END:VCALENDAR