BEGIN:VCALENDAR
VERSION:2.0
PRODID:-//wp-events-plugin.com//7.2.3.1//EN
TZID:Europe/Paris
X-WR-TIMEZONE:Europe/Paris
BEGIN:VEVENT
UID:656@les-castors.fr
DTSTART;TZID=Europe/Paris:20250921T093000
DTEND;TZID=Europe/Paris:20250921T170000
DTSTAMP:20250910T173743Z
URL:https://les-castors.fr/events/chantier-participatif-enduit-terre-crue/
SUMMARY:Chantier Participatif : Enduit Terre Crue
DESCRIPTION:Venez vivre l'expérience de l'enduit Terre Paille Sable !\n\nC
 onfirmé.es et débutant.es sont accepté.es pour nous donner un coup de m
 ain à enduire le mur ouest de la grange (1er étage) à la terre crue.\n\
 nNous souhaitons réaliser 2 chambres avant la fin de l'année pour accuei
 llir nos enfants et petits-enfants \;)\n\nFERME CHATONDAY (69)\n\n►Diman
 che 21 Septembre\n9h30-16h30\n\nEnduit TERRE murs à l’intérieur\n\n►
  LIEU Hôtel de Ville\, 5-7 Rue Emile Vernay 69780 Saint Pierre de Chandie
 u\n\n# Technique : enduit extérieur terre paille sable eau - mélange à 
 la bétonnière - enduit à la main et taloche\n\n# Support :  mur ouest 
 intérieur\, isolation avec coffrage perdu en canisses\n\n&gt\; Venir avec
  ses EPI : vêtements de travail\, chaussures de chantier\, gants et lunet
 tes\n\n&gt\; Accueil rudimentaire \;)\n- Pas d'hébergement sur place -\n\
 n&gt\; Déjeuner offert - menu végé - café thé \;)\n\n&gt\; Notre chan
 tier est ouvert aux débutant.es !\n\nEcrivez-nous via notre courriel char
 vincorinne@outlook.fr pour discuter des modalités d'accès au chantier.\n
 \n&gt\; Point Météo la veille\n\nNous confirmerons votre participation l
 a veille + adresse exacte \;)\n\nMerci de votre participation !\nAmicaleme
 nt\,\nCoco et Rv\n\nLa storie :\nVieille de 200 ans\, cette ferme s'est mi
 se sur notre chemin en mai 2021. Nous avons signé sans réfléchir sédui
 ts par le lieu et un nouveau projet de vie. C'est en nous renseignant sur 
 le pisé que nous avons commencé à nous questionner sur la rénovation p
 ossible.
ATTACH;FMTTYPE=image/jpeg:https://les-castors.fr/wp-content/uploads/2025/0
 9/2025-09-chantier-part.jpg
CATEGORIES:Chantiers participatifs
LOCATION:SAINT PIERRE DE CHANDIEU\, 5-7 Rue Emile Vernay\, Saint-Pierre-de-
 Chandieu\, Auvergne-Rhône-Alpes\, 69780\, Rhône\, France
GEO:45.644211;5.007261
X-APPLE-STRUCTURED-LOCATION;VALUE=URI;X-ADDRESS=5-7 Rue Emile Vernay\, Sain
 t-Pierre-de-Chandieu\, Auvergne-Rhône-Alpes\, 69780\, Rhône\, France;X-A
 PPLE-RADIUS=100;X-TITLE=SAINT PIERRE DE CHANDIEU:geo:45.644211,5.007261
END:VEVENT
BEGIN:VTIMEZONE
TZID:Europe/Paris
X-LIC-LOCATION:Europe/Paris
BEGIN:DAYLIGHT
DTSTART:20250330T030000
TZOFFSETFROM:+0100
TZOFFSETTO:+0200
TZNAME:CEST
END:DAYLIGHT
END:VTIMEZONE
END:VCALENDAR