BEGIN:VCALENDAR
VERSION:2.0
PRODID:-//wp-events-plugin.com//7.2.3.1//EN
TZID:Europe/Paris
X-WR-TIMEZONE:Europe/Paris
BEGIN:VEVENT
UID:648@les-castors.fr
DTSTART;TZID=Europe/Paris:20250701T090000
DTEND;TZID=Europe/Paris:20250915T170000
DTSTAMP:20250701T092934Z
URL:https://les-castors.fr/events/chantier-decoconstruction-paille-bois-te
 rre-adobes/
SUMMARY:Chantier d’écoconstruction – Paille\, bois\, terre &amp\; adob
 es
DESCRIPTION:Qui sommes-nous ?\n\nNous sommes le collectif L’Étoile de Te
 rre\, un groupe de trois foyers engagé dans un projet d’habitat partici
 patif et écologique\, situé à Puy-Guillaume\, en milieu semi-rural au p
 ied des volcans d’Auvergne.\n\nNotre projet s’ancre dans la volonté d
 e créer un lieu de vie sobre\, partagé et ouvert\, où se côtoient loge
 ments privatifs\, espaces mutualisés (jardin\, buanderie\, atelier…) et
  activités tournées vers le territoire.\n\nNous portons ce chantier dans
  une démarche d’autoconstruction accompagnée\, à la fois pour transme
 ttre\, faire ensemble et reprendre la main sur nos manières d’habiter.\
 nCe que nous construisons\nEntre mars et décembre 2025\, nous ouvrons dif
 férentes sessions de chantier participatif autour de :\n\n 	Isolation d
 es murs et combles en bottes de paille\,&nbsp\;\n 	Enduits terre sur suppo
 rts bois ou terre\,&nbsp\;\n 	Maçonnerie d’adobes\,&nbsp\;\n 	Construct
 ion ossature bois et remplissage terre allégée\,&nbsp\;\n 	Finition en b
 ois brûlé (Shou Sugi Ban).&nbsp\;\n\nChaque session sera centrée sur un
 e ou plusieurs techniques. Vous pourrez apprendre\, pratiquer\, vous tromp
 er et recommencer\, dans un cadre propice au partage et à la transmission
 .\n\nLe lieu\n\nLe chantier se déroule sur un terrain de 8500 m²\, à 
 la sortie du bourg de Puy-Guillaume. Nous y construisons 4 logements écol
 ogiques\, un atelier partagé\, et des espaces communs ouverts sur l’ext
 érieur.\n\nLe projet s’inscrit dans une dynamique coopérative à éche
 lle humaine.\nInfos pratiques\nOù ?\n À Puy-Guillaume (63).\n Bus régul
 iers depuis Vichy ou Thiers.\n Ramassage possible aux gares. Covoiturage e
 ncouragé.\n\nQuand ?\n\n 	Du 1 juillet au 31 décembre 2025&nbsp\;\n 	Ses
 sions modulables selon disponibilités&nbsp\;\n\nPour qui ?\n\n 	Tous nive
 aux acceptés\, débutants bienvenus&nbsp\;\n 	Capacité d’accueil : 6
  participant·e·s par session&nbsp\;\n\nLogistique &amp\; accueil\nSécur
 ité :\n\n 	Gants\, lunettes\, protections auditives fournis&nbsp\;\n 	Mer
 ci d’amener vos chaussures de sécurité et tenue de chantier&nbsp\;\n\n
 Outillage :\n Tout le matériel est fourni\n\nHébergement :\n\n 	En campi
 ng sur place&nbsp\;\n 	Possibilité d’hébergement intérieur pour 1 à 
 3 personnes en court séjour&nbsp\;\n\nConfort :\n\n 	Douches chaudes&nbsp
 \;\n 	Toilettes sèches&nbsp\;\n 	Nous nous occupons des repas du midi (v
 égétariens\, cuisinés avec soin)&nbsp\;\n 	Repas du soir proposé aux p
 ersonnes hébergées (participation libre)\n\nOrganisation du chantier\n\n
 Horaires :\n\n 	9h : accueil café &amp\; consignes sécurité&nbsp\;\n 	9
 h30–12h30 : chantier&nbsp\;\n 	12h30–13h30 : déjeuner&nbsp\;\n 	13h30
 –17h : reprise puis rangement\n\nLes horaires sont bien sûr adaptés en
  fonction des chantiers et surtout de la température extérieure !\n\nRyt
 hme :\n\n 	7h/jour&nbsp\;\n 	Cadence normale\, souple et collective&nbsp\;
 \n\nRépartition des tâches selon les envies et énergies du jour\n
ATTACH;FMTTYPE=image/jpeg:https://les-castors.fr/wp-content/uploads/2025/0
 6/250630_programme.jpg
CATEGORIES:Chantiers participatifs
LOCATION:Lieu exact précisé ultérieurement\, 1 Pl. Jean Jaurès\, Puy-Gu
 illaume\, Auvergne-Rhône-Alpes\, 63290\, Puy-de-Dôme\, France
GEO:45.960163;3.474735
X-APPLE-STRUCTURED-LOCATION;VALUE=URI;X-ADDRESS=1 Pl. Jean Jaurès\, Puy-Gu
 illaume\, Auvergne-Rhône-Alpes\, 63290\, Puy-de-Dôme\, France;X-APPLE-RA
 DIUS=100;X-TITLE=Lieu exact précisé ultérieurement:geo:45.960163,3.4747
 35
END:VEVENT
BEGIN:VTIMEZONE
TZID:Europe/Paris
X-LIC-LOCATION:Europe/Paris
BEGIN:DAYLIGHT
DTSTART:20250330T030000
TZOFFSETFROM:+0100
TZOFFSETTO:+0200
TZNAME:CEST
END:DAYLIGHT
END:VTIMEZONE
END:VCALENDAR