BEGIN:VCALENDAR
VERSION:2.0
PRODID:-//wp-events-plugin.com//7.2.3.1//EN
TZID:Europe/Paris
X-WR-TIMEZONE:Europe/Paris
BEGIN:VEVENT
UID:550@les-castors.fr
DTSTART;TZID=Europe/Paris;VALUE=DATE:20240729
DTEND;TZID=Europe/Paris;VALUE=DATE:20241201
DTSTAMP:20240819T075523Z
URL:https://les-castors.fr/events/autoconstruction-dune-maison-bois-et-pai
 lle-dans-lain/
SUMMARY:Autoconstruction d’une maison bois et paille dans l’Ain !
DESCRIPTION:\n\n\n\nQui sommes nous ?\n\n\nBonjour\,\n\nNous sommes Brune\,
  Delphine et Darren et nous construisons notre maison en bois paille R+1 d
 ans la petite commune de Meillonnas !\n\nAprès avoir participé à plusie
 urs chantiers et quelques formations\, (et surtout être aller démarcher 
 quelques constructeurs !….) nous nous sommes lancés dans la constructio
 n de notre maison !\n\nJ’ai pu aider et participer sur certains chantier
 s et c’est maintenant à mon tour d’accueillir et de partager !\n\nC
 ’est donc avec plaisir que nous vous retrouverons sur notre chantier\, a
 u milieu du bois\, de la paille\, de la bouffe (quand même) et du bébé 
 (oui\, il y a Brune qui est là aussi\, pas tout le temps cela dit !)\n\nE
 t notre terrain ?\n\n\nNous sommes sur la petite commune de Meillonnas\, e
 n périphérie de Bourg en Bresse.\nNous serons sur le terrain en mobil-ho
 me. Il y a de la place pour venir en camion ou en tente. Nous prévoyons 
 également de faire installer une caravane pour les invités.\n\nLe projet
  !\n\n\nCette année l’objectif est de mettre la maison hors d’eau. L
 ’ossature du R0 est presque terminée à l’heure où j’écris ces li
 gnes (fin juillet 2024). L’idée est donc de terminer le plancher d’é
 tage et l’ossature du R1 pour fin septembre environ. Et d’essayer d'en
 chaîner sur les combles et le toit sur septembre octobre novembre si le t
 emps le permet.\n\nEn terme de disponibilités\, voici les périodes sur l
 esquels nous pouvoir accueillir facilement :\n\nDu samedi 10 au jeudi 15 a
 oût.\n\nDu lundi 19 au lundi 26 août.\n\nDu lundi 2 au vendredi 13 septe
 mbre.\n\nDu jeudi 19 septembre au jeudi 3 octobre.\n\nDu 28 octobre au 6 n
 ovembre. (avec sûrement un charpentier de disponible !)\n\nComment je peu
 x venir ?\n\n\nNous sommes à environ 20 min de la gare de Bourg en Bresse
  et nous pouvons venir vous récupérer si besoin. Idem si il faut rayonne
 r dans les environs pour une récupération après un covoit’.\n\nPour p
 lus d'infos\, contactez-nous : chambon.darren@yahoo.fr\n\n\n\n\n\n\nA bien
 tôt !\n\nBrune\, Delphine et Darren.\n\n
ATTACH;FMTTYPE=image/jpeg:https://les-castors.fr/wp-content/uploads/2024/0
 7/IMG_20240702_194021.jpg
CATEGORIES:Chantiers participatifs
LOCATION:Lieu exact précisé aux participants\, 1 Pl. de la Mairie\, Meill
 onnas\, Auvergne-Rhône-Alpes\, 01370\, Ain\, France
GEO:46.245874;5.351287
X-APPLE-STRUCTURED-LOCATION;VALUE=URI;X-ADDRESS=1 Pl. de la Mairie\, Meillo
 nnas\, Auvergne-Rhône-Alpes\, 01370\, Ain\, France;X-APPLE-RADIUS=100;X-T
 ITLE=Lieu exact précisé aux participants:geo:46.245874,5.351287
END:VEVENT
BEGIN:VTIMEZONE
TZID:Europe/Paris
X-LIC-LOCATION:Europe/Paris
BEGIN:DAYLIGHT
DTSTART:20240331T030000
TZOFFSETFROM:+0100
TZOFFSETTO:+0200
TZNAME:CEST
END:DAYLIGHT
BEGIN:STANDARD
DTSTART:20241027T020000
TZOFFSETFROM:+0200
TZOFFSETTO:+0100
TZNAME:CET
END:STANDARD
END:VTIMEZONE
END:VCALENDAR